{
 "currentVersion": 11.1,
 "serviceDescription": "KeyBridgeMosaic",
 "name": "KeyBridgeMosaic",
 "description": "",
 "extent": {
  "xmin": 1414000,
  "ymin": 543000,
  "xmax": 1468000,
  "ymax": 591000,
  "spatialReference": {
   "wkt": "PROJCS[\"NAD_1983_2011_StatePlane_Maryland_FIPS_1900_Ft_US\",GEOGCS[\"GCS_NAD83_2011\",DATUM[\"D_NAD83_National_Spatial_Reference_System_2011\",SPHEROID[\"GRS_1980\",6378137.0,298.257222101]],PRIMEM[\"Greenwich\",0.0],UNIT[\"Degree\",0.0174532925199433]],PROJECTION[\"Lambert_Conformal_Conic\"],PARAMETER[\"false_easting\",1312333.333],PARAMETER[\"false_northing\",0.0],PARAMETER[\"central_meridian\",-77.0],PARAMETER[\"standard_parallel_1\",38.3],PARAMETER[\"standard_parallel_2\",39.45],PARAMETER[\"latitude_of_origin\",37.66666666666666],UNIT[\"Foot_US\",0.3048006096012192]]"
  }
 },
 "initialExtent": {
  "xmin": 1414000,
  "ymin": 543000,
  "xmax": 1468000,
  "ymax": 591000,
  "spatialReference": {
   "wkt": "PROJCS[\"NAD_1983_2011_StatePlane_Maryland_FIPS_1900_Ft_US\",GEOGCS[\"GCS_NAD83_2011\",DATUM[\"D_NAD83_National_Spatial_Reference_System_2011\",SPHEROID[\"GRS_1980\",6378137.0,298.257222101]],PRIMEM[\"Greenwich\",0.0],UNIT[\"Degree\",0.0174532925199433]],PROJECTION[\"Lambert_Conformal_Conic\"],PARAMETER[\"false_easting\",1312333.333],PARAMETER[\"false_northing\",0.0],PARAMETER[\"central_meridian\",-77.0],PARAMETER[\"standard_parallel_1\",38.3],PARAMETER[\"standard_parallel_2\",39.45],PARAMETER[\"latitude_of_origin\",37.66666666666666],UNIT[\"Foot_US\",0.3048006096012192]]"
  }
 },
 "fullExtent": {
  "xmin": 1414000,
  "ymin": 543000,
  "xmax": 1468000,
  "ymax": 591000,
  "spatialReference": {
   "wkt": "PROJCS[\"NAD_1983_2011_StatePlane_Maryland_FIPS_1900_Ft_US\",GEOGCS[\"GCS_NAD83_2011\",DATUM[\"D_NAD83_National_Spatial_Reference_System_2011\",SPHEROID[\"GRS_1980\",6378137.0,298.257222101]],PRIMEM[\"Greenwich\",0.0],UNIT[\"Degree\",0.0174532925199433]],PROJECTION[\"Lambert_Conformal_Conic\"],PARAMETER[\"false_easting\",1312333.333],PARAMETER[\"false_northing\",0.0],PARAMETER[\"central_meridian\",-77.0],PARAMETER[\"standard_parallel_1\",38.3],PARAMETER[\"standard_parallel_2\",39.45],PARAMETER[\"latitude_of_origin\",37.66666666666666],UNIT[\"Foot_US\",0.3048006096012192]]"
  }
 },
 "sortableFields": "",
 "bandCount": 5,
 "pixelType": "U8",
 "minValues": [
  0,
  18,
  26,
  0,
  252
 ],
 "maxValues": [
  255,
  255,
  255,
  255,
  255
 ],
 "meanValues": [
  113.41750301084,
  114.66880770775,
  111.90435568045,
  127.93546768366,
  254.95363307908
 ],
 "stdvValues": [
  45.636067546706,
  37.545394798265,
  35.565892973058,
  72.914966109778,
  0.25116718354202
 ],
 "hasMultidimensions": false,
 "pixelSizeX": 0.25,
 "pixelSizeY": 0.25,
 "datasetFormat": "MrSID",
 "uncompressedSize": 207360000000,
 "blockWidth": 1024,
 "blockHeight": 128,
 "compressionType": "Wavelet (MG4)",
 "bandNames": [
  "Band_1",
  "Band_2",
  "Band_3",
  "Band_4",
  "Band_5"
 ],
 "allowCopy": true,
 "allowAnalysis": true,
 "itemAccess": false,
 "minPixelSize": 0,
 "maxPixelSize": 0,
 "copyrightText": "",
 "serviceDataType": "esriImageServiceDataTypeGeneric",
 "serviceSourceType": "esriImageServiceSourceTypeDataset",
 "objectIdField": "",
 "fields": [],
 "capabilities": "Image,Metadata,Mensuration",
 "defaultMosaicMethod": "Center",
 "allowedMosaicMethods": "",
 "sortField": "",
 "sortValue": null,
 "sortAscending": true,
 "mosaicOperator": "First",
 "defaultCompressionQuality": 75,
 "defaultResamplingMethod": "Bilinear",
 "maxImageHeight": 4100,
 "maxImageWidth": 15000,
 "allowRasterFunction": true,
 "rasterFunctionInfos": [
  {
   "name": "None",
   "description": "",
   "help": ""
  }
 ],
 "rasterTypeInfos": [
  {
   "name": "Raster Dataset",
   "description": "Supports all ArcGIS Raster Datasets",
   "help": ""
  }
 ],
 "mensurationCapabilities": "Basic",
 "hasHistograms": true,
 "hasColormap": false,
 "hasRasterAttributeTable": false,
 "minScale": 0,
 "maxScale": 0,
 "exportTilesAllowed": false,
 "supportsStatistics": false,
 "supportsAdvancedQueries": false,
 "editFieldsInfo": null,
 "ownershipBasedAccessControlForRasters": null,
 "allowComputeTiePoints": false,
 "useStandardizedQueries": true,
 "advancedQueryCapabilities": {
  "useStandardizedQueries": true,
  "supportsStatistics": false,
  "supportsOrderBy": false,
  "supportsDistinct": false,
  "supportsPagination": false
 },
 "spatialReference": {
  "wkt": "PROJCS[\"NAD_1983_2011_StatePlane_Maryland_FIPS_1900_Ft_US\",GEOGCS[\"GCS_NAD83_2011\",DATUM[\"D_NAD83_National_Spatial_Reference_System_2011\",SPHEROID[\"GRS_1980\",6378137.0,298.257222101]],PRIMEM[\"Greenwich\",0.0],UNIT[\"Degree\",0.0174532925199433]],PROJECTION[\"Lambert_Conformal_Conic\"],PARAMETER[\"false_easting\",1312333.333],PARAMETER[\"false_northing\",0.0],PARAMETER[\"central_meridian\",-77.0],PARAMETER[\"standard_parallel_1\",38.3],PARAMETER[\"standard_parallel_2\",39.45],PARAMETER[\"latitude_of_origin\",37.66666666666666],UNIT[\"Foot_US\",0.3048006096012192]]"
 }
}
